BEGIN:VCALENDAR
VERSION:2.0
PRODID:-//Greenfield Lakes Golf Club - ECPv6.15.18//NONSGML v1.0//EN
CALSCALE:GREGORIAN
METHOD:PUBLISH
X-WR-CALNAME:Greenfield Lakes Golf Club
X-ORIGINAL-URL:https://www.golfgilbert.com
X-WR-CALDESC:Events for Greenfield Lakes Golf Club
REFRESH-INTERVAL;VALUE=DURATION:PT1H
X-Robots-Tag:noindex
X-PUBLISHED-TTL:PT1H
BEGIN:VTIMEZONE
TZID:UTC
BEGIN:STANDARD
TZOFFSETFROM:+0000
TZOFFSETTO:+0000
TZNAME:UTC
DTSTART:20260101T000000
END:STANDARD
END:VTIMEZONE
BEGIN:VEVENT
DTSTART;TZID=UTC:20270322T080000
DTEND;TZID=UTC:20270322T170000
DTSTAMP:20260420T101829
CREATED:20250530T083620Z
LAST-MODIFIED:20250530T083623Z
UID:10000356-1805702400-1805734800@www.golfgilbert.com
SUMMARY:Men’s Golf Clinic
DESCRIPTION:
URL:https://www.golfgilbert.com/calendar-of-event/mens-golf-clinic/2027-03-22/
END:VEVENT
BEGIN:VEVENT
DTSTART;TZID=UTC:20270329T080000
DTEND;TZID=UTC:20270329T170000
DTSTAMP:20260420T101829
CREATED:20250530T083620Z
LAST-MODIFIED:20250530T083623Z
UID:10000357-1806307200-1806339600@www.golfgilbert.com
SUMMARY:Men’s Golf Clinic
DESCRIPTION:
URL:https://www.golfgilbert.com/calendar-of-event/mens-golf-clinic/2027-03-29/
END:VEVENT
BEGIN:VEVENT
DTSTART;TZID=UTC:20270405T080000
DTEND;TZID=UTC:20270405T170000
DTSTAMP:20260420T101829
CREATED:20250530T083620Z
LAST-MODIFIED:20250530T083623Z
UID:10000358-1806912000-1806944400@www.golfgilbert.com
SUMMARY:Men’s Golf Clinic
DESCRIPTION:
URL:https://www.golfgilbert.com/calendar-of-event/mens-golf-clinic/2027-04-05/
END:VEVENT
BEGIN:VEVENT
DTSTART;TZID=UTC:20270412T080000
DTEND;TZID=UTC:20270412T170000
DTSTAMP:20260420T101829
CREATED:20250530T083620Z
LAST-MODIFIED:20250530T083623Z
UID:10000359-1807516800-1807549200@www.golfgilbert.com
SUMMARY:Men’s Golf Clinic
DESCRIPTION:
URL:https://www.golfgilbert.com/calendar-of-event/mens-golf-clinic/2027-04-12/
END:VEVENT
BEGIN:VEVENT
DTSTART;TZID=UTC:20270419T080000
DTEND;TZID=UTC:20270419T170000
DTSTAMP:20260420T101829
CREATED:20250530T083620Z
LAST-MODIFIED:20250530T083623Z
UID:10000360-1808121600-1808154000@www.golfgilbert.com
SUMMARY:Men’s Golf Clinic
DESCRIPTION:
URL:https://www.golfgilbert.com/calendar-of-event/mens-golf-clinic/2027-04-19/
END:VEVENT
BEGIN:VEVENT
DTSTART;TZID=UTC:20270426T080000
DTEND;TZID=UTC:20270426T170000
DTSTAMP:20260420T101829
CREATED:20250530T083620Z
LAST-MODIFIED:20250530T083623Z
UID:10000361-1808726400-1808758800@www.golfgilbert.com
SUMMARY:Men’s Golf Clinic
DESCRIPTION:
URL:https://www.golfgilbert.com/calendar-of-event/mens-golf-clinic/2027-04-26/
END:VEVENT
BEGIN:VEVENT
DTSTART;TZID=UTC:20270503T080000
DTEND;TZID=UTC:20270503T170000
DTSTAMP:20260420T101829
CREATED:20250530T083620Z
LAST-MODIFIED:20250530T083623Z
UID:10000362-1809331200-1809363600@www.golfgilbert.com
SUMMARY:Men’s Golf Clinic
DESCRIPTION:
URL:https://www.golfgilbert.com/calendar-of-event/mens-golf-clinic/2027-05-03/
END:VEVENT
BEGIN:VEVENT
DTSTART;TZID=UTC:20270510T080000
DTEND;TZID=UTC:20270510T170000
DTSTAMP:20260420T101829
CREATED:20250530T083620Z
LAST-MODIFIED:20250530T083623Z
UID:10000363-1809936000-1809968400@www.golfgilbert.com
SUMMARY:Men’s Golf Clinic
DESCRIPTION:
URL:https://www.golfgilbert.com/calendar-of-event/mens-golf-clinic/2027-05-10/
END:VEVENT
BEGIN:VEVENT
DTSTART;TZID=UTC:20270517T080000
DTEND;TZID=UTC:20270517T170000
DTSTAMP:20260420T101829
CREATED:20250530T083620Z
LAST-MODIFIED:20250530T083623Z
UID:10000364-1810540800-1810573200@www.golfgilbert.com
SUMMARY:Men’s Golf Clinic
DESCRIPTION:
URL:https://www.golfgilbert.com/calendar-of-event/mens-golf-clinic/2027-05-17/
END:VEVENT
BEGIN:VEVENT
DTSTART;TZID=UTC:20270524T080000
DTEND;TZID=UTC:20270524T170000
DTSTAMP:20260420T101829
CREATED:20250530T083620Z
LAST-MODIFIED:20250530T083623Z
UID:10000365-1811145600-1811178000@www.golfgilbert.com
SUMMARY:Men’s Golf Clinic
DESCRIPTION:
URL:https://www.golfgilbert.com/calendar-of-event/mens-golf-clinic/2027-05-24/
END:VEVENT
BEGIN:VEVENT
DTSTART;TZID=UTC:20270531T080000
DTEND;TZID=UTC:20270531T170000
DTSTAMP:20260420T101829
CREATED:20250530T083620Z
LAST-MODIFIED:20250530T083623Z
UID:10000366-1811750400-1811782800@www.golfgilbert.com
SUMMARY:Men’s Golf Clinic
DESCRIPTION:
URL:https://www.golfgilbert.com/calendar-of-event/mens-golf-clinic/2027-05-31/
END:VEVENT
BEGIN:VEVENT
DTSTART;TZID=UTC:20270607T080000
DTEND;TZID=UTC:20270607T170000
DTSTAMP:20260420T101829
CREATED:20250530T083620Z
LAST-MODIFIED:20250530T083623Z
UID:10000367-1812355200-1812387600@www.golfgilbert.com
SUMMARY:Men’s Golf Clinic
DESCRIPTION:
URL:https://www.golfgilbert.com/calendar-of-event/mens-golf-clinic/2027-06-07/
END:VEVENT
BEGIN:VEVENT
DTSTART;TZID=UTC:20270614T080000
DTEND;TZID=UTC:20270614T170000
DTSTAMP:20260420T101829
CREATED:20250530T083620Z
LAST-MODIFIED:20250530T083623Z
UID:10000368-1812960000-1812992400@www.golfgilbert.com
SUMMARY:Men’s Golf Clinic
DESCRIPTION:
URL:https://www.golfgilbert.com/calendar-of-event/mens-golf-clinic/2027-06-14/
END:VEVENT
BEGIN:VEVENT
DTSTART;TZID=UTC:20270621T080000
DTEND;TZID=UTC:20270621T170000
DTSTAMP:20260420T101829
CREATED:20250530T083620Z
LAST-MODIFIED:20250530T083623Z
UID:10000369-1813564800-1813597200@www.golfgilbert.com
SUMMARY:Men’s Golf Clinic
DESCRIPTION:
URL:https://www.golfgilbert.com/calendar-of-event/mens-golf-clinic/2027-06-21/
END:VEVENT
BEGIN:VEVENT
DTSTART;TZID=UTC:20270628T080000
DTEND;TZID=UTC:20270628T170000
DTSTAMP:20260420T101829
CREATED:20250530T083620Z
LAST-MODIFIED:20250530T083623Z
UID:10000370-1814169600-1814202000@www.golfgilbert.com
SUMMARY:Men’s Golf Clinic
DESCRIPTION:
URL:https://www.golfgilbert.com/calendar-of-event/mens-golf-clinic/2027-06-28/
END:VEVENT
BEGIN:VEVENT
DTSTART;TZID=UTC:20270705T080000
DTEND;TZID=UTC:20270705T170000
DTSTAMP:20260420T101829
CREATED:20250530T083620Z
LAST-MODIFIED:20250530T083623Z
UID:10000371-1814774400-1814806800@www.golfgilbert.com
SUMMARY:Men’s Golf Clinic
DESCRIPTION:
URL:https://www.golfgilbert.com/calendar-of-event/mens-golf-clinic/2027-07-05/
END:VEVENT
BEGIN:VEVENT
DTSTART;TZID=UTC:20270712T080000
DTEND;TZID=UTC:20270712T170000
DTSTAMP:20260420T101829
CREATED:20250530T083620Z
LAST-MODIFIED:20250530T083623Z
UID:10000372-1815379200-1815411600@www.golfgilbert.com
SUMMARY:Men’s Golf Clinic
DESCRIPTION:
URL:https://www.golfgilbert.com/calendar-of-event/mens-golf-clinic/2027-07-12/
END:VEVENT
BEGIN:VEVENT
DTSTART;TZID=UTC:20270719T080000
DTEND;TZID=UTC:20270719T170000
DTSTAMP:20260420T101829
CREATED:20250530T083620Z
LAST-MODIFIED:20250530T083623Z
UID:10000373-1815984000-1816016400@www.golfgilbert.com
SUMMARY:Men’s Golf Clinic
DESCRIPTION:
URL:https://www.golfgilbert.com/calendar-of-event/mens-golf-clinic/2027-07-19/
END:VEVENT
BEGIN:VEVENT
DTSTART;TZID=UTC:20270726T080000
DTEND;TZID=UTC:20270726T170000
DTSTAMP:20260420T101829
CREATED:20250530T083620Z
LAST-MODIFIED:20250530T083623Z
UID:10000374-1816588800-1816621200@www.golfgilbert.com
SUMMARY:Men’s Golf Clinic
DESCRIPTION:
URL:https://www.golfgilbert.com/calendar-of-event/mens-golf-clinic/2027-07-26/
END:VEVENT
BEGIN:VEVENT
DTSTART;TZID=UTC:20270802T080000
DTEND;TZID=UTC:20270802T170000
DTSTAMP:20260420T101829
CREATED:20250530T083620Z
LAST-MODIFIED:20250530T083623Z
UID:10000375-1817193600-1817226000@www.golfgilbert.com
SUMMARY:Men’s Golf Clinic
DESCRIPTION:
URL:https://www.golfgilbert.com/calendar-of-event/mens-golf-clinic/2027-08-02/
END:VEVENT
BEGIN:VEVENT
DTSTART;TZID=UTC:20270809T080000
DTEND;TZID=UTC:20270809T170000
DTSTAMP:20260420T101829
CREATED:20250530T083620Z
LAST-MODIFIED:20250530T083623Z
UID:10000376-1817798400-1817830800@www.golfgilbert.com
SUMMARY:Men’s Golf Clinic
DESCRIPTION:
URL:https://www.golfgilbert.com/calendar-of-event/mens-golf-clinic/2027-08-09/
END:VEVENT
BEGIN:VEVENT
DTSTART;TZID=UTC:20270816T080000
DTEND;TZID=UTC:20270816T170000
DTSTAMP:20260420T101829
CREATED:20250530T083620Z
LAST-MODIFIED:20250530T083623Z
UID:10000377-1818403200-1818435600@www.golfgilbert.com
SUMMARY:Men’s Golf Clinic
DESCRIPTION:
URL:https://www.golfgilbert.com/calendar-of-event/mens-golf-clinic/2027-08-16/
END:VEVENT
BEGIN:VEVENT
DTSTART;TZID=UTC:20270823T080000
DTEND;TZID=UTC:20270823T170000
DTSTAMP:20260420T101829
CREATED:20250530T083620Z
LAST-MODIFIED:20250530T083623Z
UID:10000378-1819008000-1819040400@www.golfgilbert.com
SUMMARY:Men’s Golf Clinic
DESCRIPTION:
URL:https://www.golfgilbert.com/calendar-of-event/mens-golf-clinic/2027-08-23/
END:VEVENT
BEGIN:VEVENT
DTSTART;TZID=UTC:20270830T080000
DTEND;TZID=UTC:20270830T170000
DTSTAMP:20260420T101829
CREATED:20250530T083620Z
LAST-MODIFIED:20250530T083623Z
UID:10000379-1819612800-1819645200@www.golfgilbert.com
SUMMARY:Men’s Golf Clinic
DESCRIPTION:
URL:https://www.golfgilbert.com/calendar-of-event/mens-golf-clinic/2027-08-30/
END:VEVENT
BEGIN:VEVENT
DTSTART;TZID=UTC:20270906T080000
DTEND;TZID=UTC:20270906T170000
DTSTAMP:20260420T101829
CREATED:20250530T083620Z
LAST-MODIFIED:20250530T083623Z
UID:10000380-1820217600-1820250000@www.golfgilbert.com
SUMMARY:Men’s Golf Clinic
DESCRIPTION:
URL:https://www.golfgilbert.com/calendar-of-event/mens-golf-clinic/2027-09-06/
END:VEVENT
BEGIN:VEVENT
DTSTART;TZID=UTC:20270913T080000
DTEND;TZID=UTC:20270913T170000
DTSTAMP:20260420T101829
CREATED:20250530T083620Z
LAST-MODIFIED:20250530T083623Z
UID:10000381-1820822400-1820854800@www.golfgilbert.com
SUMMARY:Men’s Golf Clinic
DESCRIPTION:
URL:https://www.golfgilbert.com/calendar-of-event/mens-golf-clinic/2027-09-13/
END:VEVENT
BEGIN:VEVENT
DTSTART;TZID=UTC:20270920T080000
DTEND;TZID=UTC:20270920T170000
DTSTAMP:20260420T101829
CREATED:20250530T083620Z
LAST-MODIFIED:20250530T083623Z
UID:10000382-1821427200-1821459600@www.golfgilbert.com
SUMMARY:Men’s Golf Clinic
DESCRIPTION:
URL:https://www.golfgilbert.com/calendar-of-event/mens-golf-clinic/2027-09-20/
END:VEVENT
BEGIN:VEVENT
DTSTART;TZID=UTC:20270927T080000
DTEND;TZID=UTC:20270927T170000
DTSTAMP:20260420T101829
CREATED:20250530T083620Z
LAST-MODIFIED:20250530T083623Z
UID:10000383-1822032000-1822064400@www.golfgilbert.com
SUMMARY:Men’s Golf Clinic
DESCRIPTION:
URL:https://www.golfgilbert.com/calendar-of-event/mens-golf-clinic/2027-09-27/
END:VEVENT
BEGIN:VEVENT
DTSTART;TZID=UTC:20271004T080000
DTEND;TZID=UTC:20271004T170000
DTSTAMP:20260420T101829
CREATED:20250530T083620Z
LAST-MODIFIED:20250530T083623Z
UID:10000384-1822636800-1822669200@www.golfgilbert.com
SUMMARY:Men’s Golf Clinic
DESCRIPTION:
URL:https://www.golfgilbert.com/calendar-of-event/mens-golf-clinic/2027-10-04/
END:VEVENT
BEGIN:VEVENT
DTSTART;TZID=UTC:20271011T080000
DTEND;TZID=UTC:20271011T170000
DTSTAMP:20260420T101829
CREATED:20250530T083620Z
LAST-MODIFIED:20250530T083623Z
UID:10000385-1823241600-1823274000@www.golfgilbert.com
SUMMARY:Men’s Golf Clinic
DESCRIPTION:
URL:https://www.golfgilbert.com/calendar-of-event/mens-golf-clinic/2027-10-11/
END:VEVENT
END:VCALENDAR